BEGIN:VCALENDAR
VERSION:2.0
PRODID:-//wp-events-plugin.com//5.8//EN
BEGIN:VEVENT
UID:81@klartext.lu
DTSTART;VALUE=DATE:20190228
DTEND;VALUE=DATE:20190301
DTSTAMP:20170913T120941Z
URL:http://www.klartext.lu/termine/schmudo-19/
SUMMARY:SchmuDo '19
DESCRIPTION:
CATEGORIES:Fasnacht
END:VEVENT
END:VCALENDAR